BEGIN:VCALENDAR
METHOD:PUBLISH
VERSION:2.0
PRODID:-//Eventilla iCal Syndication//NONSGML Liana//EN
BEGIN:VEVENT
UID:kONqk@eventilla.com
DTSTAMP:20260505T153000Z
DTSTART:20260505T153000Z
DTEND:20260505T170000Z
SUMMARY:Kaihiluento 5.5.2026
DESCRIPTION:Onko kaihileikkaus ajankohtainen sinulle tai läheisellesi?\nTervetuloa Silmäaseman maksuttomalle kaihiluennolle. Luento järjestetään Rovaniemen silmäsairaalassa tiistaina 5.5. klo 18.30 alkaen. Luennolla silmätautien erikoislääkäri Joona Lantto kertoo kaihileikkauksesta\, linssivaihtoehdoista sekä leikkausprosessin kulusta. Tilaisuuden alussa on kahvitarjoilu ja loppuun on varattu aikaa myös kysymyksille.\nAika: tiistai 5.5. klo 18.30—20.00Paikka: Silmäsairaala Rovaniemi\, Maakuntakatu 29-31 (Sampokeskus 2.krs)\, 96200 RovaniemiLuennoitsija: Joona Lantto\, silmätautien erikoislääkäri\, Silmäasema\nIlmoittauduthan mukaan viimeistään torstaina 30.4.
LOCATION:Silmäsairaala Rovaniemi\, Maakuntakatu 29-31\, 96200\,
 Rovaniemi\, Suomi
URL:http://tapahtumat.silmaasema.fi/rovaniemi-kaihiluento-05052026
END:VEVENT
END:VCALENDAR
